BEGIN:VCALENDAR
VERSION:2.0
METHOD:PUBLISH
PRODID:-//hacksw/handcal//NONSGML v1.0//EN
BEGIN:VEVENT
DTSTAMP:20260423T111906Z
DTSTART:20150118T200000Z
DTEND:20150118T040000Z
UID:20150118T200000Z-20150118T040000Z-244@akronago.org
SUMMARY:Academy of Culture & Arts Student Recital
DESCRIPTION:Lynn Frey-Steward\, CAGO\, MM\, Coordinator
X-ALT-DESC;FMTTYPE=text/html:<div class=page-restrict-output><p>Lynn F
 rey-Steward\, CAGO\, MM\, Coordinator</p>\n</div>
URL:https://akronago.org/events/244/academy-of-arts-student-recital/?l
 ang=en
ATTACH:https://akronago.org/events/244/academy-of-arts-student-recital
 /?lang=en
LOCATION:St Sebastian RC (Akron)\, 476 Mull Ave\, Akron
END:VEVENT
END:VCALENDAR
