BEGIN:VCALENDAR
VERSION:2.0
METHOD:PUBLISH
PRODID:-//hacksw/handcal//NONSGML v1.0//EN
BEGIN:VEVENT
DTSTAMP:20260423T112008Z
DTSTART:20141214T193000Z
DTEND:20141214T040000Z
UID:20141214T193000Z-20141214T040000Z-243@akronago.org
SUMMARY:Ceremony of Lessons & Carols
DESCRIPTION:Lynn Frey-Steward\, CAGO\, MM-Director of Music\n\nParish 
 Choir\, Praise & Worship Ensemble\, Handbell Choir\, and Gregorian Sch
 ola
X-ALT-DESC;FMTTYPE=text/html:<div class=page-restrict-output><p><i>Lyn
 n Frey-Steward\, CAGO\, MM-Director of Music</i></p>\n<p><i>Parish Cho
 ir\, Praise &amp\; Worship Ensemble\, </i><i>Handbell Choir\, and Greg
 orian Schola</i></p>\n</div>
URL:https://akronago.org/events/243/ceremony-e2-80-94lessons-carols/?l
 ang=en
ATTACH:https://akronago.org/events/243/ceremony-e2-80-94lessons-carols
 /?lang=en
LOCATION:St Sebastian RC (Akron)\, 476 Mull Ave\, Akron
END:VEVENT
END:VCALENDAR
