BEGIN:VCALENDAR
VERSION:2.0
METHOD:PUBLISH
PRODID:-//hacksw/handcal//NONSGML v1.0//EN
BEGIN:VEVENT
DTSTAMP:20260423T111726Z
DTSTART:20141223T160000Z
DTEND:20141223T040000Z
UID:20141223T160000Z-20141223T040000Z-242@akronago.org
SUMMARY:Lynn Frey-Steward
DESCRIPTION:
X-ALT-DESC;FMTTYPE=text/html:<div class=page-restrict-output></div>
URL:https://akronago.org/events/242/lynn-frey-steward/?lang=en
ATTACH:https://akronago.org/events/242/lynn-frey-steward/?lang=en
LOCATION:St Sebastian RC (Akron)\, 476 Mull Ave\, Akron
END:VEVENT
END:VCALENDAR
