BEGIN:VCALENDAR
VERSION:2.0
METHOD:PUBLISH
PRODID:-//hacksw/handcal//NONSGML v1.0//EN
BEGIN:VEVENT
DTSTAMP:20260423T111729Z
DTSTART:20141123T203000Z
DTEND:20141123T040000Z
UID:20141123T203000Z-20141123T040000Z-238@akronago.org
SUMMARY:Singers Companye and Miller South Choirs
DESCRIPTION:Dr. Samuel Gordon\, director
X-ALT-DESC;FMTTYPE=text/html:<div class=page-restrict-output><p>Dr. Sa
 muel Gordon\, director</p>\n</div>
URL:https://akronago.org/events/238/singers-comp-miller-south-choirs/?
 lang=en
ATTACH:https://akronago.org/events/238/singers-comp-miller-south-choir
 s/?lang=en
LOCATION:St Sebastian RC (Akron)\, 476 Mull Ave\, Akron
END:VEVENT
END:VCALENDAR
