BEGIN:VCALENDAR
VERSION:2.0
METHOD:PUBLISH
PRODID:-//hacksw/handcal//NONSGML v1.0//EN
BEGIN:VEVENT
DTSTAMP:20260423T111635Z
DTSTART:20150412T210000Z
DTEND:20150412T040000Z
UID:20150412T210000Z-20150412T040000Z-236@akronago.org
SUMMARY:James Mismas and Friends
DESCRIPTION:Celebrating Jim Mismas's 50th anniversary as a church musi
 cian.\n\nhttp://www.westminsterakron.com/#/what-is-happening/five-five
X-ALT-DESC;FMTTYPE=text/html:<div class=page-restrict-output><p>Celebr
 ating Jim Mismas's 50th anniversary as a church musician.</p>\n<p>http
 ://www.westminsterakron.com/#/what-is-happening/five-five</p>\n</div>
URL:https://akronago.org/events/236/james-mismas-and-friends/?lang=en
ATTACH:https://akronago.org/events/236/james-mismas-and-friends/?lang=
 en
LOCATION:Westminster Presbyterian (Akron)\, 1250 W Exchange St\, Akron
END:VEVENT
END:VCALENDAR
