BEGIN:VCALENDAR
VERSION:2.0
METHOD:PUBLISH
PRODID:-//hacksw/handcal//NONSGML v1.0//EN
BEGIN:VEVENT
DTSTAMP:20260423T111902Z
DTSTART:20150201T210000Z
DTEND:20150201T040000Z
UID:20150201T210000Z-20150201T040000Z-235@akronago.org
SUMMARY:Akron Baroque: Super Bowl Baroque!
DESCRIPTION:http://www.westminsterakron.com/#/what-is-happening/five-f
 ive
X-ALT-DESC;FMTTYPE=text/html:<div class=page-restrict-output><p>http:/
 /www.westminsterakron.com/#/what-is-happening/five-five</p>\n</div>
URL:https://akronago.org/events/235/akron-baroque-super-bowl-baroque/?
 lang=en
ATTACH:https://akronago.org/events/235/akron-baroque-super-bowl-baroqu
 e/?lang=en
LOCATION:Westminster Presbyterian (Akron)\, 1250 W Exchange St\, Akron
END:VEVENT
END:VCALENDAR
