BEGIN:VCALENDAR
VERSION:2.0
METHOD:PUBLISH
PRODID:-//hacksw/handcal//NONSGML v1.0//EN
BEGIN:VEVENT
DTSTAMP:20260423T111903Z
DTSTART:20141102T210000Z
DTEND:20141102T040000Z
UID:20141102T210000Z-20141102T040000Z-234@akronago.org
SUMMARY:Festival Choral Concert & Orchestra: Messiah Highlights
DESCRIPTION:http://www.westminsterakron.com/#/what-is-happening/five-f
 ive
X-ALT-DESC;FMTTYPE=text/html:<div class=page-restrict-output><p>http:/
 /www.westminsterakron.com/#/what-is-happening/five-five</p>\n</div>
URL:https://akronago.org/events/234/festival-choral-concert-orchestra-
 messiah-highlights/?lang=en
ATTACH:https://akronago.org/events/234/festival-choral-concert-orchest
 ra-messiah-highlights/?lang=en
LOCATION:Westminster Presbyterian (Akron)\, 1250 W Exchange St\, Akron
END:VEVENT
END:VCALENDAR
