BEGIN:VCALENDAR
VERSION:2.0
METHOD:PUBLISH
PRODID:-//hacksw/handcal//NONSGML v1.0//EN
BEGIN:VEVENT
DTSTAMP:20260423T111829Z
DTSTART:20140928T210000Z
DTEND:20140928T040000Z
UID:20140928T210000Z-20140928T040000Z-233@akronago.org
SUMMARY:Phillip Tomson\, piano
DESCRIPTION:http://www.westminsterakron.com/#/what-is-happening/five-f
 ive
X-ALT-DESC;FMTTYPE=text/html:<div class=page-restrict-output><p>http:/
 /www.westminsterakron.com/#/what-is-happening/five-five</p>\n</div>
URL:https://akronago.org/events/233/phillip-tomson-piano/?lang=en
ATTACH:https://akronago.org/events/233/phillip-tomson-piano/?lang=en
LOCATION:Westminster Presbyterian (Akron)\, 1250 W Exchange St\, Akron
END:VEVENT
END:VCALENDAR
