BEGIN:VCALENDAR
VERSION:2.0
METHOD:PUBLISH
PRODID:-//hacksw/handcal//NONSGML v1.0//EN
BEGIN:VEVENT
DTSTAMP:20260423T111638Z
DTSTART:20140803T190000Z
DTEND:20140803T203000Z
UID:20140803T190000Z-20140803T203000Z-231@akronago.org
SUMMARY:Master Singers\, Inc.: Requiem by Antonio Salieri
DESCRIPTION:REQUIEM by Antonio Salieri\, with the MSI orchestra & MSI 
 soloists\n\nEine kleine Nachtmusik\, by Wolfgang Amadeus Mozart\, with
  the MSI Strings\n\nAve verum corpus\, by Wolfgang Amadeus Mozart\, wi
 th Chorus and strings\n\nhttp://www.mastersingersinc.org
X-ALT-DESC;FMTTYPE=text/html:<div class=page-restrict-output><p>REQUIE
 M by Antonio Salieri\, with the MSI orchestra &amp\; MSI soloists</p>\
 n<p>Eine kleine Nachtmusik\, by Wolfgang Amadeus Mozart\, with the MSI
  Strings</p>\n<p>Ave verum corpus\, by Wolfgang Amadeus Mozart\, with 
 Chorus and strings</p>\n<p>http://www.mastersingersinc.org</p>\n</div>
URL:https://akronago.org/events/231/master-singers-requiem-by-antonio-
 salieri/?lang=en
ATTACH:https://akronago.org/events/231/master-singers-requiem-by-anton
 io-salieri/?lang=en
LOCATION:St Paul's Episcopal (Akron)\, 1361 W Market St\, Akron
END:VEVENT
END:VCALENDAR
