BEGIN:VCALENDAR
VERSION:2.0
METHOD:PUBLISH
PRODID:-//hacksw/handcal//NONSGML v1.0//EN
BEGIN:VEVENT
DTSTAMP:20260423T111827Z
DTSTART:20141108T143000Z
DTEND:20141108T160000Z
UID:20141108T143000Z-20141108T160000Z-230@akronago.org
SUMMARY:Creative Hymn Playing Workshop
DESCRIPTION:Mark Thewes\, presenter\n9am Breakfast before workshop at 
 EyeOpener (1688 W Market St). RSVP for breakfast to Lynn Frey-Steward
X-ALT-DESC;FMTTYPE=text/html:<div class=page-restrict-output><p>Mark T
 hewes\, presenter<br>\n9am Breakfast before workshop at EyeOpener (168
 8 W Market St). RSVP for breakfast to <a href=&#109\;&#x61\;&#x69\;&#1
 08\;&#x74\;&#x6f\;:&#x66\;&#x72\;e&#121\;&#x6c\;&#64\;&#115\;&#x74\;s&
 #101\;&#x62\;a&#115\;&#x74\;i&#97\;&#x6e\;&#x2e\;&#111\;&#x72\;&#x67\;
 >Lynn Frey-Steward</a></p>\n</div>
URL:https://akronago.org/events/230/creative-hymn-playing-workshop/?la
 ng=en
ATTACH:https://akronago.org/events/230/creative-hymn-playing-workshop/
 ?lang=en
LOCATION:St Sebastian RC (Akron)\, 476 Mull Ave\, Akron
END:VEVENT
END:VCALENDAR
