BEGIN:VCALENDAR
VERSION:2.0
METHOD:PUBLISH
PRODID:-//hacksw/handcal//NONSGML v1.0//EN
BEGIN:VEVENT
DTSTAMP:20260423T111727Z
DTSTART:20101128T200000Z
DTEND:20101128T040000Z
UID:20101128T200000Z-20101128T040000Z-23@akronago.org
SUMMARY:Advent Lessons & Carols
DESCRIPTION:The Choir of Men & Boys\, with the St. Cecilia Choir of Gi
 rls\nJohn Ireland — Adam lay ybounden\nGeorge Guest — When came in fle
 sh the Incarnate Word\nOtto Goldschmidt — A tender shoot\nCraig Philli
 ps — There's a voice in the wilderness crying\nMichael Emery — Angelus
  ad virginem\nOrlando Gibbons — O thou\, the central orb of righteousn
 ess
X-ALT-DESC;FMTTYPE=text/html:<div class=page-restrict-output><p>The Ch
 oir of Men & Boys\, with the St. Cecilia Choir of Girls<br>\n<em>John 
 Ireland </em>— Adam lay ybounden<br>\n<em>George Guest </em>— When cam
 e in flesh the Incarnate Word<br>\n<em>Otto Goldschmidt</em> — A tende
 r shoot<br>\n<em>Craig Phillips</em> — There's a voice in the wilderne
 ss crying<br>\n<em>Michael Emery</em> — Angelus ad virginem<br>\n<em>O
 rlando Gibbons</em> — O thou\, the central orb of righteousness</p>\n<
 /div>
URL:https://akronago.org/events/23/advent-lessons-carols/?lang=en
ATTACH:https://akronago.org/events/23/advent-lessons-carols/?lang=en
LOCATION:St Paul's Episcopal (Akron)\, 1361 W Market St\, Akron
END:VEVENT
END:VCALENDAR
