BEGIN:VCALENDAR
VERSION:2.0
METHOD:PUBLISH
PRODID:-//hacksw/handcal//NONSGML v1.0//EN
BEGIN:VEVENT
DTSTAMP:20260423T111915Z
DTSTART:20141011T140000Z
DTEND:20141011T150000Z
UID:20141011T140000Z-20141011T150000Z-229@akronago.org
SUMMARY:Registering/Playing Theatre Organ
DESCRIPTION:Sarah Kauffman\, presenter\nLunch afterwards at Bricco Res
 taurant (1 W Exchange St). Lunch RSVP to Lynn Frey-Steward
X-ALT-DESC;FMTTYPE=text/html:<div class=page-restrict-output><p>Sarah 
 Kauffman\, presenter<br>\nLunch afterwards at Bricco Restaurant (1 W E
 xchange St). Lunch RSVP to <a href=&#109\;&#x61\;&#x69\;l&#116\;&#x6f\
 ;:&#102\;&#x72\;&#x65\;&#121\;&#x6c\;&#x40\;s&#116\;&#x73\;e&#98\;&#x6
 1\;&#x73\;&#116\;&#x69\;&#x61\;n&#46\;&#x6f\;r&#103\;>Lynn Frey-Stewar
 d</a></p>\n</div>
URL:https://akronago.org/events/229/registeringplaying-theatre-organ/?
 lang=en
ATTACH:https://akronago.org/events/229/registeringplaying-theatre-orga
 n/?lang=en
ATTACH:https://akronago.org/wp-content/uploads/civic_marque-150x150.jp
 g
LOCATION:Akron Civic Theatre\, 182 S Main St\, Akron OH
END:VEVENT
END:VCALENDAR
