BEGIN:VCALENDAR
VERSION:2.0
METHOD:PUBLISH
PRODID:-//hacksw/handcal//NONSGML v1.0//EN
BEGIN:VEVENT
DTSTAMP:20260423T111616Z
DTSTART:20140922T230000Z
DTEND:20140923T000000Z
UID:20140922T230000Z-20140923T000000Z-228@akronago.org
SUMMARY:Vespers Service
DESCRIPTION:Akron AGO Opening Event for 2014-15 Season\nCarissa Young\
 , Music Director\n5:30p Dinner at Rockne's on W Market St. RSVP to Lyn
 n Frey-Steward
X-ALT-DESC;FMTTYPE=text/html:<div class=page-restrict-output><p><stron
 g>Akron AGO Opening Event for 2014-15 Season</strong><br>\nCarissa You
 ng\, Music Director<br>\n5:30p Dinner at Rockne's on W Market St. RSVP
  to <a href=&#x6d\;&#97\;i&#x6c\;&#116\;o&#x3a\;&#102\;r&#x65\;&#121\;
 l&#x40\;&#115\;t&#x73\;&#101\;b&#x61\;&#115\;t&#x69\;&#97\;n&#x2e\;&#1
 11\;r&#x67\;>Lynn Frey-Steward</a></p>\n</div>
URL:https://akronago.org/events/228/vespers-service/?lang=en
ATTACH:https://akronago.org/events/228/vespers-service/?lang=en
LOCATION:St Hilary RC (Fairlawn)\, 2750 W Market\, Fairlawn
END:VEVENT
END:VCALENDAR
