BEGIN:VCALENDAR
VERSION:2.0
METHOD:PUBLISH
PRODID:-//hacksw/handcal//NONSGML v1.0//EN
BEGIN:VEVENT
DTSTAMP:20260423T111902Z
DTSTART:20140515T113000Z
DTEND:20140515T040000Z
UID:20140515T113000Z-20140515T040000Z-226@akronago.org
SUMMARY:Akron Baroque Concert
DESCRIPTION:MUSIC: Featuring Haydn's Double Concerto for Harpsichord a
 nd Solo Violin\n\nValerie Thorson\, harpsichord\nLinda Nagy-Johnston\,
  violin\nGuy Victor Bordo\, conductor\n\nFree and Open to the Public (
 Free Will Offering will be taken)
X-ALT-DESC;FMTTYPE=text/html:<div class=page-restrict-output><p>MUSIC:
  Featuring Haydn's Double Concerto for Harpsichord and Solo Violin</p>
 \n<p>Valerie Thorson\, harpsichord<br>\nLinda Nagy-Johnston\, violin<b
 r>\nGuy Victor Bordo\, conductor</p>\n<p>Free and Open to the Public (
 Free Will Offering will be taken)</p>\n</div>
URL:https://akronago.org/events/226/akron-baroque-concert/?lang=en
ATTACH:https://akronago.org/events/226/akron-baroque-concert/?lang=en
LOCATION:First Congregational (Akron)\, 292 E Market St\, Akron
END:VEVENT
END:VCALENDAR
