BEGIN:VCALENDAR
VERSION:2.0
METHOD:PUBLISH
PRODID:-//hacksw/handcal//NONSGML v1.0//EN
BEGIN:VEVENT
DTSTAMP:20260423T111810Z
DTSTART:20131023T230000Z
DTEND:20131024T074500Z
UID:20131023T230000Z-20131024T074500Z-224@akronago.org
SUMMARY:Bach and Sons
DESCRIPTION:Organ and MultiMedia Concert\nDr. Jeannine Jordan\, organi
 st\, with David Jordan\, media artist\n\nMusic of Bach and his three s
 ons\, with narration including the women in Bach's life.\n\nFree admis
 sion
X-ALT-DESC;FMTTYPE=text/html:<div class=page-restrict-output><p><stron
 g>Organ and MultiMedia Concert</strong><br>\nDr. Jeannine Jordan\, org
 anist\, with David Jordan\, media artist</p>\n<p>Music of Bach and his
  three sons\, with narration including the women in Bach's life.</p>\n
 <p>Free admission</p>\n</div>
URL:https://akronago.org/events/224/bach-and-sons/?lang=en
ATTACH:https://akronago.org/events/224/bach-and-sons/?lang=en
LOCATION:Wooster United Methodist Church\, 243 N Market St\, Wooster
END:VEVENT
END:VCALENDAR
