BEGIN:VCALENDAR
VERSION:2.0
METHOD:PUBLISH
PRODID:-//hacksw/handcal//NONSGML v1.0//EN
BEGIN:VEVENT
DTSTAMP:20260423T111912Z
DTSTART:20131205T233000Z
DTEND:20131206T190800Z
UID:20131205T233000Z-20131206T190800Z-223@akronago.org
SUMMARY:The University of Akron Symphony Orchestra
DESCRIPTION:Guy Victor Bordo\, conductor \nAlan Bodman\, violin \nMusi
 c of Avni\, Delius\, Martynov\, and Haydn
X-ALT-DESC;FMTTYPE=text/html:<div class=page-restrict-output><p>Guy Vi
 ctor Bordo\, conductor<br>\nAlan Bodman\, violin<br>\nMusic of Avni\, 
 Delius\, Martynov\, and Haydn </p>\n</div>
URL:https://akronago.org/events/223/the-university-of-akron-symphony-o
 rchestra/?lang=en
ATTACH:https://akronago.org/events/223/the-university-of-akron-symphon
 y-orchestra/?lang=en
LOCATION:First Congregational (Akron)\, 292 E Market St\, Akron
END:VEVENT
END:VCALENDAR
