BEGIN:VCALENDAR
VERSION:2.0
METHOD:PUBLISH
PRODID:-//hacksw/handcal//NONSGML v1.0//EN
BEGIN:VEVENT
DTSTAMP:20260423T111914Z
DTSTART:20131204T160000Z
DTEND:20131204T190500Z
UID:20131204T160000Z-20131204T190500Z-222@akronago.org
SUMMARY:Bach's Lunch
DESCRIPTION:Free 30-Minute Concert of Seasonal Music \nLunch available
  by reservation for $6.50\; call 330-253-5109
X-ALT-DESC;FMTTYPE=text/html:<div class=page-restrict-output><p><stron
 g>Free 30-Minute Concert of Seasonal Music </strong><br>\nLunch availa
 ble by reservation for $6.50\; call 330-253-5109</p>\n</div>
URL:https://akronago.org/events/222/bachs-lunch/?lang=en
ATTACH:https://akronago.org/events/222/bachs-lunch/?lang=en
LOCATION:First Congregational (Akron)\, 292 E Market St\, Akron
END:VEVENT
END:VCALENDAR
