BEGIN:VCALENDAR
VERSION:2.0
METHOD:PUBLISH
PRODID:-//hacksw/handcal//NONSGML v1.0//EN
BEGIN:VEVENT
DTSTAMP:20260423T111809Z
DTSTART:20131114T233000Z
DTEND:20131115T190200Z
UID:20131114T233000Z-20131115T190200Z-221@akronago.org
SUMMARY:Akron Baroque!
DESCRIPTION:Guy Victor Bordo\, conductor\nFeaturing oboists Thomas Moo
 re and Danna Sundet\n\nMusic of Vivaldi\, Locatelli\, Corelli\, Albino
 ni\, and Marcello
X-ALT-DESC;FMTTYPE=text/html:<div class=page-restrict-output><p>Guy Vi
 ctor Bordo\, conductor<br>\nFeaturing oboists Thomas Moore and Danna S
 undet</p>\n<p>Music of Vivaldi\, Locatelli\, Corelli\, Albinoni\, and 
 Marcello</p>\n</div>
URL:https://akronago.org/events/221/akron-baroque/?lang=en
ATTACH:https://akronago.org/events/221/akron-baroque/?lang=en
LOCATION:First Congregational (Akron)\, 292 E Market St\, Akron
END:VEVENT
END:VCALENDAR
