BEGIN:VCALENDAR
VERSION:2.0
METHOD:PUBLISH
PRODID:-//hacksw/handcal//NONSGML v1.0//EN
BEGIN:VEVENT
DTSTAMP:20260423T111736Z
DTSTART:20131105T233000Z
DTEND:20131106T190100Z
UID:20131105T233000Z-20131106T190100Z-220@akronago.org
SUMMARY:The University of Akron Symphony Orchestra
DESCRIPTION:Todd Gafke\, saxophone \nGuy Victor Bordo\, conductor\n\nM
 usic of Rimsky-Korsakov\, Ravel\, Milhaud\, and Shostakovich
X-ALT-DESC;FMTTYPE=text/html:<div class=page-restrict-output><p>Todd G
 afke\, saxophone<br>\nGuy Victor Bordo\, conductor</p>\n<p>Music of Ri
 msky-Korsakov\, Ravel\, Milhaud\, and Shostakovich </p>\n</div>
URL:https://akronago.org/events/220/the-university-of-akron-symphony-o
 rchestra/?lang=en
ATTACH:https://akronago.org/events/220/the-university-of-akron-symphon
 y-orchestra/?lang=en
LOCATION:First Congregational (Akron)\, 292 E Market St\, Akron
END:VEVENT
END:VCALENDAR
