BEGIN:VCALENDAR
VERSION:2.0
METHOD:PUBLISH
PRODID:-//hacksw/handcal//NONSGML v1.0//EN
BEGIN:VEVENT
DTSTAMP:20260423T111738Z
DTSTART:20101114T200000Z
DTEND:20101114T040000Z
UID:20101114T200000Z-20101114T040000Z-22@akronago.org
SUMMARY:St Pauls Evensong
DESCRIPTION:The St. Catherine's Choir of Women\nCraig Phillips — Prece
 s & Responses\nPercy Whitlock — Psalm 96\nWilliam H. Harris — Magnific
 at & Nunc dimittis in D\nWilliam H. Harris — Come\, my way\, my truth\
 , my life
X-ALT-DESC;FMTTYPE=text/html:<div class=page-restrict-output><p>The St
 . Catherine's Choir of Women</p>\n<p><em>Craig Phillips</em> — Preces 
 & Responses<br>\n<em>Percy Whitlock</em> — Psalm 96<br>\n<em>William H
 . Harris</em> — Magnificat & Nunc dimittis in D<br>\n<em>William H. Ha
 rris</em> — Come\, my way\, my truth\, my life</p>\n</div>
URL:https://akronago.org/events/22/st-pauls-evensong/?lang=en
ATTACH:https://akronago.org/events/22/st-pauls-evensong/?lang=en
LOCATION:St Paul's Episcopal (Akron)\, 1361 W Market St\, Akron
END:VEVENT
END:VCALENDAR
