BEGIN:VCALENDAR
VERSION:2.0
METHOD:PUBLISH
PRODID:-//hacksw/handcal//NONSGML v1.0//EN
BEGIN:VEVENT
DTSTAMP:20260423T111728Z
DTSTART:20131025T230000Z
DTEND:20131026T185900Z
UID:20131025T230000Z-20131026T185900Z-219@akronago.org
SUMMARY:Annual Family Halloween Spooktacular!
DESCRIPTION:Benefit Concert For Akron Children’s Hospital\nScary Organ
  Music\, Costume Parade\, Halloween Party & Prizes
X-ALT-DESC;FMTTYPE=text/html:<div class=page-restrict-output><p>Benefi
 t Concert For Akron Children’s Hospital<br>\nScary Organ Music\, Costu
 me Parade\, Halloween Party & Prizes</p>\n</div>
URL:https://akronago.org/events/219/annual-family-halloween-spooktacul
 ar/?lang=en
ATTACH:https://akronago.org/events/219/annual-family-halloween-spookta
 cular/?lang=en
LOCATION:First Congregational (Akron)\, 292 E Market St\, Akron
END:VEVENT
END:VCALENDAR
