BEGIN:VCALENDAR
VERSION:2.0
METHOD:PUBLISH
PRODID:-//hacksw/handcal//NONSGML v1.0//EN
BEGIN:VEVENT
DTSTAMP:20260423T111736Z
DTSTART:20131010T233000Z
DTEND:20131011T185200Z
UID:20131010T233000Z-20131011T185200Z-218@akronago.org
SUMMARY:The University of Akron Symphony Orchestra and University Choi
 r
DESCRIPTION:Guy Victor Bordo\, Conductor\n\nGeminiani - Concerto Gross
 o\, Op. 3 No. 3\; Work For Chorus/Orchestra TBA\; Beethoven - Symphony
  No. 1
X-ALT-DESC;FMTTYPE=text/html:<div class=page-restrict-output><p>Guy Vi
 ctor Bordo\, Conductor</p>\n<p>Geminiani - Concerto Grosso\, Op. 3 No.
  3\; Work For Chorus/Orchestra TBA\; Beethoven - Symphony No. 1</p>\n<
 /div>
URL:https://akronago.org/events/218/the-university-of-akron-symphony-o
 rchestra-and-university-choir/?lang=en
ATTACH:https://akronago.org/events/218/the-university-of-akron-symphon
 y-orchestra-and-university-choir/?lang=en
LOCATION:First Congregational (Akron)\, 292 E Market St\, Akron
END:VEVENT
END:VCALENDAR
