BEGIN:VCALENDAR
VERSION:2.0
METHOD:PUBLISH
PRODID:-//hacksw/handcal//NONSGML v1.0//EN
BEGIN:VEVENT
DTSTAMP:20260423T111903Z
DTSTART:20140511T210000Z
DTEND:20140511T212800Z
UID:20140511T210000Z-20140511T212800Z-217@akronago.org
SUMMARY:Opera/Broadway Gala
DESCRIPTION:
X-ALT-DESC;FMTTYPE=text/html:<div class=page-restrict-output></div>
URL:https://akronago.org/events/217/operabroadway-gala/?lang=en
ATTACH:https://akronago.org/events/217/operabroadway-gala/?lang=en
LOCATION:Westminster Presbyterian (Akron)\, 1250 W Exchange St\, Akron
END:VEVENT
END:VCALENDAR
