BEGIN:VCALENDAR
VERSION:2.0
METHOD:PUBLISH
PRODID:-//hacksw/handcal//NONSGML v1.0//EN
BEGIN:VEVENT
DTSTAMP:20260423T112006Z
DTSTART:20140330T210000Z
DTEND:20140330T212800Z
UID:20140330T210000Z-20140330T212800Z-216@akronago.org
SUMMARY:OSU Men's Glee Club
DESCRIPTION:
X-ALT-DESC;FMTTYPE=text/html:<div class=page-restrict-output></div>
URL:https://akronago.org/events/216/osu-mens-glee-club/?lang=en
ATTACH:https://akronago.org/events/216/osu-mens-glee-club/?lang=en
LOCATION:Westminster Presbyterian (Akron)\, 1250 W Exchange St\, Akron
END:VEVENT
END:VCALENDAR
