BEGIN:VCALENDAR
VERSION:2.0
METHOD:PUBLISH
PRODID:-//hacksw/handcal//NONSGML v1.0//EN
BEGIN:VEVENT
DTSTAMP:20260423T111914Z
DTSTART:20140202T210000Z
DTEND:20140202T212700Z
UID:20140202T210000Z-20140202T212700Z-215@akronago.org
SUMMARY:Akron Baroque
DESCRIPTION:
X-ALT-DESC;FMTTYPE=text/html:<div class=page-restrict-output></div>
URL:https://akronago.org/events/215/akron-baroque/?lang=en
ATTACH:https://akronago.org/events/215/akron-baroque/?lang=en
LOCATION:Westminster Presbyterian (Akron)\, 1250 W Exchange St\, Akron
END:VEVENT
END:VCALENDAR
