BEGIN:VCALENDAR
VERSION:2.0
METHOD:PUBLISH
PRODID:-//hacksw/handcal//NONSGML v1.0//EN
BEGIN:VEVENT
DTSTAMP:20260423T111903Z
DTSTART:20140330T200000Z
DTEND:20140330T212400Z
UID:20140330T200000Z-20140330T212400Z-213@akronago.org
SUMMARY:Benefit Concert
DESCRIPTION:The Benefit Concert is sung by the Choir of Men & Boys\, a
 nd the St. Cecilia Choir of Girls and will feature music for the choir
 's upcoming tour of England. Free admission\, though donations to the 
 Choir Travel Fund are appreciated.
X-ALT-DESC;FMTTYPE=text/html:<div class=page-restrict-output><p>The Be
 nefit Concert is sung by the Choir of Men & Boys\, and the St. Cecilia
  Choir of Girls and will feature music for the choir's upcoming tour o
 f England. Free admission\, though donations to the Choir Travel Fund 
 are appreciated.</p>\n</div>
URL:https://akronago.org/events/213/evensong/?lang=en
ATTACH:https://akronago.org/events/213/evensong/?lang=en
LOCATION:St Paul's Episcopal (Akron)\, 1361 W Market St\, Akron
END:VEVENT
END:VCALENDAR
