BEGIN:VCALENDAR
VERSION:2.0
METHOD:PUBLISH
PRODID:-//hacksw/handcal//NONSGML v1.0//EN
BEGIN:VEVENT
DTSTAMP:20260423T111738Z
DTSTART:20140302T200000Z
DTEND:20140302T212100Z
UID:20140302T200000Z-20140302T212100Z-211@akronago.org
SUMMARY:Evensong
DESCRIPTION:Evensong is sung by the Choir of Men & Boys\, and the St. 
 Cecilia Choir of Girls
X-ALT-DESC;FMTTYPE=text/html:<div class=page-restrict-output><p>Evenso
 ng is sung by the Choir of Men & Boys\, and the St. Cecilia Choir of G
 irls</p>\n</div>
URL:https://akronago.org/events/211/evensong/?lang=en
ATTACH:https://akronago.org/events/211/evensong/?lang=en
LOCATION:St Paul's Episcopal (Akron)\, 1361 W Market St\, Akron
END:VEVENT
END:VCALENDAR
