BEGIN:VCALENDAR
VERSION:2.0
METHOD:PUBLISH
PRODID:-//hacksw/handcal//NONSGML v1.0//EN
BEGIN:VEVENT
DTSTAMP:20260423T111637Z
DTSTART:20101205T200000Z
DTEND:20101205T040000Z
UID:20101205T200000Z-20101205T040000Z-21@akronago.org
SUMMARY:Master Singers with Cleveland Brass Quintet
DESCRIPTION:Hodie\nWorks for Chorus\, Brass & Percussion\nJ.D. Goddard
 \, director\nwith the Cleveland Brass Quintet\n\nMaster Singers\, now 
 in its ninth season\, will sing several world premieres of choral work
 s for chorus\, brass\, and percussion by composers from the United Sta
 tes and around the world\, based on the Latin text Hodie Christus natu
 s est (Today Christ is born).
X-ALT-DESC;FMTTYPE=text/html:<div class=page-restrict-output><h3>Hodie
 </h3>\n<p><em>Works for Chorus\, Brass & Percussion</em><br>\nJ.D. God
 dard\, director<br>\nwith the <a href=http://www.facebook.com/pages/Cl
 eveland-Brass-Quintet/158645776167>Cleveland Brass Quinte</a>t</p>\n<p
 ><a href=http://www.mastersingersinc.org/>Master Singers</a>\, now in 
 its ninth season\, will sing several world premieres of choral works f
 or chorus\, brass\, and percussion by composers from the United States
  and around the world\, based on the Latin text Hodie Christus natus e
 st (Today Christ is born).</p>\n</div>
URL:https://akronago.org/events/21/master-singers-with-cleveland-brass
 -quintet/?lang=en
ATTACH:https://akronago.org/events/21/master-singers-with-cleveland-br
 ass-quintet/?lang=en
LOCATION:Fairlawn Lutheran\, 3415 W Market St\, Fairlawn\, OH
END:VEVENT
END:VCALENDAR
