BEGIN:VCALENDAR
VERSION:2.0
METHOD:PUBLISH
PRODID:-//hacksw/handcal//NONSGML v1.0//EN
BEGIN:VEVENT
DTSTAMP:20260423T111807Z
DTSTART:20131020T200000Z
DTEND:20131020T211900Z
UID:20131020T200000Z-20131020T211900Z-208@akronago.org
SUMMARY:Evensong
DESCRIPTION:Evensong is sung by the Choir of Men & Boys\, and the St. 
 Cecilia Choir of Girls\nMusic of T. Tertius Noble\, Edward Bairstow\, 
 and John Barnard
X-ALT-DESC;FMTTYPE=text/html:<div class=page-restrict-output><p>Evenso
 ng is sung by the Choir of Men & Boys\, and the St. Cecilia Choir of G
 irls<br>\nMusic of T. Tertius Noble\, Edward Bairstow\, and John Barna
 rd</p>\n</div>
URL:https://akronago.org/events/208/evensong/?lang=en
ATTACH:https://akronago.org/events/208/evensong/?lang=en
LOCATION:St Paul's Episcopal (Akron)\, 1361 W Market St\, Akron
END:VEVENT
END:VCALENDAR
