BEGIN:VCALENDAR
VERSION:2.0
METHOD:PUBLISH
PRODID:-//hacksw/handcal//NONSGML v1.0//EN
BEGIN:VEVENT
DTSTAMP:20260423T111656Z
DTSTART:20140504T200000Z
DTEND:20140504T211600Z
UID:20140504T200000Z-20140504T211600Z-207@akronago.org
SUMMARY:8th Annual High School Music Festival
DESCRIPTION:Revere and Copley-Fairlawn High Schools\n\nThis annual con
 cert will feature one new high school choir along with the choirs from
  Revere and Copley-Fairlawn. Their well attended concerts are always i
 nspiring and educational. The program concludes with a group number su
 ng in the round.
X-ALT-DESC;FMTTYPE=text/html:<div class=page-restrict-output><p><stron
 g>Revere and Copley-Fairlawn High Schools</strong></p>\n<p>This annual
  concert will feature one new high school choir along with the choirs 
 from Revere and Copley-Fairlawn. Their well attended concerts are alwa
 ys inspiring and educational. The program concludes with a group numbe
 r sung in the round.</p>\n</div>
URL:https://akronago.org/events/207/8th-annual-high-school-music-festi
 val/?lang=en
ATTACH:https://akronago.org/events/207/8th-annual-high-school-music-fe
 stival/?lang=en
LOCATION:Fairlawn Lutheran\, 3415 W Market St\, Fairlawn\, OH
END:VEVENT
END:VCALENDAR
