BEGIN:VCALENDAR
VERSION:2.0
METHOD:PUBLISH
PRODID:-//hacksw/handcal//NONSGML v1.0//EN
BEGIN:VEVENT
DTSTAMP:20260423T111725Z
DTSTART:20140406T200000Z
DTEND:20140406T211500Z
UID:20140406T200000Z-20140406T211500Z-206@akronago.org
SUMMARY:Holtkamp Organ Dedication Recital
DESCRIPTION:Mark Lindgren and Gary Pinter (Organ & Piano)\n\nThe conce
 rt will feature added pipes of the recently completed Holtkamp pipe or
 gan\, as originally designed. Mark and Gary will play solos and duets 
 on organ and piano.
X-ALT-DESC;FMTTYPE=text/html:<div class=page-restrict-output><p><stron
 g>Mark Lindgren and Gary Pinter</strong> (Organ & Piano)</p>\n<p>The c
 oncert will feature added pipes of the recently completed Holtkamp pip
 e organ\, as originally designed. Mark and Gary will play solos and du
 ets on organ and piano.</p>\n</div>
URL:https://akronago.org/events/206/holtkamp-organ-dedication-recital/
 ?lang=en
ATTACH:https://akronago.org/events/206/holtkamp-organ-dedication-recit
 al/?lang=en
LOCATION:Fairlawn Lutheran\, 3415 W Market St\, Fairlawn\, OH
END:VEVENT
END:VCALENDAR
