BEGIN:VCALENDAR
VERSION:2.0
METHOD:PUBLISH
PRODID:-//hacksw/handcal//NONSGML v1.0//EN
BEGIN:VEVENT
DTSTAMP:20260423T111810Z
DTSTART:20140216T200000Z
DTEND:20140216T211400Z
UID:20140216T200000Z-20140216T211400Z-205@akronago.org
SUMMARY:Singing Men of Ohio University
DESCRIPTION:Directed by Dr. Daniel J. Hall\n\nThe Men's Glee Club is o
 ne of Ohio's finest choirs. They take pride in their diversity and mis
 sion— to provide leadership and brotherhood through song.
X-ALT-DESC;FMTTYPE=text/html:<div class=page-restrict-output><p>Direct
 ed by Dr. Daniel J. Hall</p>\n<p>The Men's Glee Club is one of Ohio's 
 finest choirs. They take pride in their diversity and mission— to prov
 ide leadership and brotherhood through song.</p>\n</div>
URL:https://akronago.org/events/205/singing-men-of-ohio-university/?la
 ng=en
ATTACH:https://akronago.org/events/205/singing-men-of-ohio-university/
 ?lang=en
LOCATION:Fairlawn Lutheran\, 3415 W Market St\, Fairlawn\, OH
END:VEVENT
END:VCALENDAR
