BEGIN:VCALENDAR
VERSION:2.0
METHOD:PUBLISH
PRODID:-//hacksw/handcal//NONSGML v1.0//EN
BEGIN:VEVENT
DTSTAMP:20260423T111737Z
DTSTART:20131201T190000Z
DTEND:20131201T211300Z
UID:20131201T190000Z-20131201T211300Z-204@akronago.org
SUMMARY:Master Singers\, Inc. Christmas Concert
DESCRIPTION:Dr. J.D. Goddard directs this premier volunteer group of m
 ixed voices which performs significant choral works.
X-ALT-DESC;FMTTYPE=text/html:<div class=page-restrict-output><p>Dr. J.
 D. Goddard directs this premier volunteer group of mixed voices which 
 performs significant choral works.</p>\n</div>
URL:https://akronago.org/events/204/master-singers-inc-christmas-conce
 rt/?lang=en
ATTACH:https://akronago.org/events/204/master-singers-inc-christmas-co
 ncert/?lang=en
LOCATION:Fairlawn Lutheran\, 3415 W Market St\, Fairlawn\, OH
END:VEVENT
END:VCALENDAR
