BEGIN:VCALENDAR
VERSION:2.0
METHOD:PUBLISH
PRODID:-//hacksw/handcal//NONSGML v1.0//EN
BEGIN:VEVENT
DTSTAMP:20260423T111806Z
DTSTART:20131117T200000Z
DTEND:20131117T211000Z
UID:20131117T200000Z-20131117T211000Z-203@akronago.org
SUMMARY:Bowling Green State University Collegiate Chorale
DESCRIPTION:Directed by Timothy J. Cloeter\n\nThe Collegiate Chorale i
 s the premiere choral ensemble in the College of Musical Arts at Bowli
 ng Green State University and part of a five-choir program in a colleg
 e comprising over 600 music majors. They have traveled in Europe\, Can
 ada and the US.
X-ALT-DESC;FMTTYPE=text/html:<div class=page-restrict-output><p>Direct
 ed by Timothy J. Cloeter</p>\n<p>The Collegiate Chorale is the premier
 e choral ensemble in the College of Musical Arts at Bowling Green Stat
 e University and part of a five-choir program in a college comprising 
 over 600 music majors. They have traveled in Europe\, Canada and the U
 S.</p>\n</div>
URL:https://akronago.org/events/203/bowling-green-state-university-col
 legiate-chorale/?lang=en
ATTACH:https://akronago.org/events/203/bowling-green-state-university-
 collegiate-chorale/?lang=en
LOCATION:Fairlawn Lutheran\, 3415 W Market St\, Fairlawn\, OH
END:VEVENT
END:VCALENDAR
