BEGIN:VCALENDAR
VERSION:2.0
METHOD:PUBLISH
PRODID:-//hacksw/handcal//NONSGML v1.0//EN
BEGIN:VEVENT
DTSTAMP:20260423T111637Z
DTSTART:20131020T200000Z
DTEND:20131020T210600Z
UID:20131020T200000Z-20131020T210600Z-202@akronago.org
SUMMARY:Gale Kramer
DESCRIPTION:Gale Kramer was organist at the Rice Memorial Organ (5 man
 uals\, 121 ranks) of Metropolitan Methodist Church in Detroit for 30 y
 ears. He earned the DMA degree from the University of Michigan. He wil
 l play selections by Raison\, Bach\, Boëly\, and Widor.
X-ALT-DESC;FMTTYPE=text/html:<div class=page-restrict-output><p>Gale K
 ramer was organist at the Rice Memorial Organ (5 manuals\, 121 ranks) 
 of Metropolitan Methodist Church in Detroit for 30 years. He earned th
 e DMA degree from the University of Michigan. He will play selections 
 by Raison\, Bach\, Boëly\, and Widor.</p>\n</div>
URL:https://akronago.org/events/202/gale-kramer/?lang=en
ATTACH:https://akronago.org/events/202/gale-kramer/?lang=en
LOCATION:Fairlawn Lutheran\, 3415 W Market St\, Fairlawn\, OH
END:VEVENT
END:VCALENDAR
