BEGIN:VCALENDAR
VERSION:2.0
METHOD:PUBLISH
PRODID:-//hacksw/handcal//NONSGML v1.0//EN
BEGIN:VEVENT
DTSTAMP:20260423T111739Z
DTSTART:20131206T113000Z
DTEND:20131207T073800Z
UID:20131206T113000Z-20131207T073800Z-200@akronago.org
SUMMARY:Christmas Choir Festival
DESCRIPTION:Benefit Concert for the Akron AGO Scholarship Fund
X-ALT-DESC;FMTTYPE=text/html:<div class=page-restrict-output><p>Benefi
 t Concert for the Akron AGO Scholarship Fund</p>\n</div>
URL:https://akronago.org/events/200/christmas-choir-festival/?lang=en
ATTACH:https://akronago.org/events/200/christmas-choir-festival/?lang=
 en
LOCATION:Bethany UCC (Cuyahoga Falls)\, 1235 Broad Boulevard\, Cuyahog
 a Falls\, OH
END:VEVENT
END:VCALENDAR
