BEGIN:VCALENDAR
VERSION:2.0
METHOD:PUBLISH
PRODID:-//hacksw/handcal//NONSGML v1.0//EN
BEGIN:VEVENT
DTSTAMP:20260423T112010Z
DTSTART:20140314T233000Z
DTEND:20140315T023300Z
UID:20140314T233000Z-20140315T023300Z-198@akronago.org
SUMMARY:Bach to Bach Members' Recital
DESCRIPTION:
X-ALT-DESC;FMTTYPE=text/html:<div class=page-restrict-output></div>
URL:https://akronago.org/events/198/bach-to-bach-members-recital/?lang
 =en
ATTACH:https://akronago.org/events/198/bach-to-bach-members-recital/?l
 ang=en
LOCATION:First U Methodist (Akron)\, 263 E Mill St\, Akron
END:VEVENT
END:VCALENDAR
