BEGIN:VCALENDAR
VERSION:2.0
METHOD:PUBLISH
PRODID:-//hacksw/handcal//NONSGML v1.0//EN
BEGIN:VEVENT
DTSTAMP:20260423T123628Z
DTSTART:20140314T220000Z
DTEND:20140315T023000Z
UID:20140314T220000Z-20140315T023000Z-197@akronago.org
SUMMARY:Pre-Event Dinner
DESCRIPTION:Join us for a pre-recital dinner! RSVP for dinner to Mary 
 Ragna Yetter: emryetter@gmail.com or 330-869-2154\n\nImmediately follo
 wing dinner:\n7:30pm at First United Methodist Church: Bach to Bach Me
 mber's Recital. Click here for more information
X-ALT-DESC;FMTTYPE=text/html:<div class=page-restrict-output><p>Join u
 s for a pre-recital dinner! RSVP for dinner to Mary Ragna Yetter: &#x6
 5\;&#x6d\;&#114\;y&#x65\;&#x74\;&#x74\;&#101\;r&#x40\;&#x67\;&#x6d\;&#
 97\;i&#x6c\;&#x2e\;&#x63\;&#111\;m or 330-869-2154</p>\n<p>Immediately
  following dinner:<br>\n7:30pm at First United Methodist Church: <stro
 ng>Bach to Bach Member's Recital</strong>. <a href=http://akronago.org
 /events/198/bach-to-bach-members-recital/>Click here for more informat
 ion</a></p>\n</div>
URL:https://akronago.org/events/197/pre-event-dinner/?lang=en
ATTACH:https://akronago.org/events/197/pre-event-dinner/?lang=en
LOCATION:House of Hunan (Akron)\, 12 E Exchange St\, Akron
END:VEVENT
END:VCALENDAR
