BEGIN:VCALENDAR
VERSION:2.0
METHOD:PUBLISH
PRODID:-//hacksw/handcal//NONSGML v1.0//EN
BEGIN:VEVENT
DTSTAMP:20260423T111725Z
DTSTART:20140207T233000Z
DTEND:20140208T022600Z
UID:20140207T233000Z-20140208T022600Z-196@akronago.org
SUMMARY:Organ Plus One—Carissa Young and others
DESCRIPTION:Join us for a pre-concert dinner! RSVP for dinner to Mary 
 Ragna Yetter: emryetter@gmail.com or 330-869-2154
X-ALT-DESC;FMTTYPE=text/html:<div class=page-restrict-output><p>Join u
 s for a <a href=http://akronago.org/events/195/pre-event-dinner/>pre-c
 oncert dinner</a>! RSVP for dinner to Mary Ragna Yetter: &#x65\;&#109\
 ;&#x72\;&#x79\;&#101\;&#x74\;&#116\;e&#x72\;&#64\;g&#x6d\;&#97\;i&#x6c
 \;&#46\;c&#x6f\;&#109\; or 330-869-2154</p>\n</div>
URL:https://akronago.org/events/196/organ-plus-one-e2-80-94carissa-you
 ng-and-others/?lang=en
ATTACH:https://akronago.org/events/196/organ-plus-one-e2-80-94carissa-
 young-and-others/?lang=en
LOCATION:St Hilary RC (Fairlawn)\, 2750 W Market\, Fairlawn
END:VEVENT
END:VCALENDAR
