BEGIN:VCALENDAR
VERSION:2.0
METHOD:PUBLISH
PRODID:-//hacksw/handcal//NONSGML v1.0//EN
BEGIN:VEVENT
DTSTAMP:20260423T123702Z
DTSTART:20140207T220000Z
DTEND:20140208T022400Z
UID:20140207T220000Z-20140208T022400Z-195@akronago.org
SUMMARY:Pre-Event Dinner
DESCRIPTION:RSVP for dinner to Mary Ragna Yetter: emryetter@gmail.com 
 or 330-869-2154\n\nImmediately following dinner:\n7:30pm Organ Plus On
 e: Carissa Young and others at St Hilary Catholic Church. Click here f
 or more information
X-ALT-DESC;FMTTYPE=text/html:<div class=page-restrict-output><p>RSVP f
 or dinner to Mary Ragna Yetter: e&#109\;&#x72\;&#x79\;e&#116\;&#116\;&
 #x65\;&#x72\;&#64\;&#103\;&#x6d\;&#x61\;i&#108\;&#46\;&#x63\;&#x6f\;m 
 or 330-869-2154</p>\n<p>Immediately following dinner:<br>\n7:30pm <str
 ong>Organ Plus One: Carissa Young and others</strong> at St Hilary Cat
 holic Church. <a href=http://akronago.org/events/196/organ-plus-one—ca
 rissa-young-and-others/>Click here for more information</a></p>\n</div
 >
URL:https://akronago.org/events/195/pre-event-dinner/?lang=en
ATTACH:https://akronago.org/events/195/pre-event-dinner/?lang=en
LOCATION:Old Carolina Barbecue (Fairlawn)\, 620 Ridgewood Crossing Dr\
 , Fairlawn
END:VEVENT
END:VCALENDAR
