BEGIN:VCALENDAR
VERSION:2.0
METHOD:PUBLISH
PRODID:-//hacksw/handcal//NONSGML v1.0//EN
BEGIN:VEVENT
DTSTAMP:20260423T111613Z
DTSTART:20131116T220000Z
DTEND:20131117T021500Z
UID:20131116T220000Z-20131117T021500Z-193@akronago.org
SUMMARY:Pre-Event Dinner
DESCRIPTION:Join us for a pre-recital dinner. RSVP for dinner to Mary 
 Ragna Yetter: emryetter@gmail.com or 330-869-2154\n\nImmediately follo
 wing dinner:\n7:30pm Nicole Keller\, guest recitalist\, at Brecksville
  United Methodist Church. Click here for more information.
X-ALT-DESC;FMTTYPE=text/html:<div class=page-restrict-output><p>Join u
 s for a pre-recital dinner. RSVP for dinner to Mary Ragna Yetter: <a h
 ref=m&#97\;&#105\;&#x6c\;&#x74\;&#x6f\;&#x3a\;e&#109\;&#114\;&#121\;&#
 x65\;&#x74\;&#x74\;er&#64\;&#103\;&#x6d\;&#x61\;&#x69\;l&#46\;&#99\;&#
 111\;&#x6d\;>&#x65\;&#109\;r&#x79\;&#x65\;&#116\;t&#x65\;&#114\;&#64\;
 &#x67\;&#x6d\;&#97\;i&#x6c\;&#46\;c&#x6f\;&#x6d\;</a> or 330-869-2154<
 /p>\n<p>Immediately following dinner:<br>\n7:30pm Nicole Keller\, gues
 t recitalist\, at Brecksville United Methodist Church. <a href=http://
 akronago.org/events/192/nicole-keller-guest-recitalist/>Click here for
  more information.</a></p>\n</div>
URL:https://akronago.org/events/193/pre-event-dinner/?lang=en
ATTACH:https://akronago.org/events/193/pre-event-dinner/?lang=en
LOCATION:Simon's Restaurant & Deli (Cleveland)\, 7770 Chippewa Rd\, Cl
 eveland
END:VEVENT
END:VCALENDAR
