BEGIN:VCALENDAR
VERSION:2.0
METHOD:PUBLISH
PRODID:-//hacksw/handcal//NONSGML v1.0//EN
BEGIN:VEVENT
DTSTAMP:20260423T111740Z
DTSTART:20131116T233000Z
DTEND:20131117T020600Z
UID:20131116T233000Z-20131117T020600Z-192@akronago.org
SUMMARY:Nicole Keller\, guest recitalist
DESCRIPTION:Join us for a pre-recital Dinner @ 6:00: Simon's Restauran
 t & Deli  \n(7770 Chippewa Rd\, Cleveland) This is only three minutes 
 away from the church!\nRSVP for dinner to Mary Ragna Yetter: emryetter
 @gmail.com or 330-869-2154
X-ALT-DESC;FMTTYPE=text/html:<div class=page-restrict-output><p>Join u
 s for a pre-recital Dinner @ 6:00: Simon's Restaurant & Deli<br>\n(777
 0 Chippewa Rd\, Cleveland) This is only three minutes away from the ch
 urch!<br>\nRSVP for dinner to Mary Ragna Yetter: <a href=&#109\;&#x61\
 ;i&#108\;&#x74\;o&#58\;&#x65\;m&#114\;&#x79\;e&#116\;&#x74\;&#101\;&#x
 72\;&#x40\;&#103\;&#x6d\;&#x61\;&#105\;&#x6c\;&#46\;&#99\;&#x6f\;m>&#x
 65\;&#109\;r&#x79\;&#x65\;&#116\;t&#x65\;&#x72\;&#64\;g&#x6d\;&#97\;i&
 #x6c\;&#x2e\;&#99\;o&#x6d\;</a> or 330-869-2154</p>\n</div>
URL:https://akronago.org/events/192/nicole-keller-guest-recitalist/?la
 ng=en
ATTACH:https://akronago.org/events/192/nicole-keller-guest-recitalist/
 ?lang=en
LOCATION:Brecksville U Methodist\, 65 Public Square\, Brecksville
END:VEVENT
END:VCALENDAR
