BEGIN:VCALENDAR
VERSION:2.0
METHOD:PUBLISH
PRODID:-//hacksw/handcal//NONSGML v1.0//EN
BEGIN:VEVENT
DTSTAMP:20260423T111614Z
DTSTART:20131011T220000Z
DTEND:20131012T015800Z
UID:20131011T220000Z-20131012T015800Z-191@akronago.org
SUMMARY:Pre-Event Dinner
DESCRIPTION:RSVP for dinner to Mary Ragna Yetter: emryetter@gmail.com 
 or 330-869-2154\n\nImmediately following dinner:\n7:30pm Dispelling th
 e Myths of Bach  at Redeemer North Hill United Methodist Church (265 E
  Cuyahoga Falls Ave. Akron). Click here for more information
X-ALT-DESC;FMTTYPE=text/html:<div class=page-restrict-output><p>RSVP f
 or dinner to Mary Ragna Yetter: <a href=ma&#105\;&#108\;&#116\;&#111\;
 &#x3a\;&#x65\;&#x6d\;&#x72\;&#x79\;et&#116\;&#101\;&#114\;&#64\;&#x67\
 ;&#x6d\;&#x61\;&#x69\;&#x6c\;&#46\;c&#111\;&#109\;>&#101\;&#x6d\;&#x72
 \;&#121\;&#x65\;&#x74\;&#116\;&#x65\;&#x72\;&#64\;&#x67\;&#x6d\;&#97\;
 &#x69\;&#x6c\;&#46\;&#x63\;&#x6f\;&#109\;</a> or 330-869-2154</p>\n<p>
 Immediately following dinner:<br>\n7:30pm <strong>Dispelling the Myths
  of Bach </strong> at Redeemer North Hill United Methodist Church (265
  E Cuyahoga Falls Ave. Akron). <a href=http://akronago.org/events/190/
 dispelling-the-myths-of-bach/>Click here for more information</a></p>\
 n</div>
URL:https://akronago.org/events/191/pre-event-dinner/?lang=en
ATTACH:https://akronago.org/events/191/pre-event-dinner/?lang=en
LOCATION:O'Charley's Restaurant (Cuyahoga Falls)\, 283 Howe\, Cuyahoga
  Falls
END:VEVENT
END:VCALENDAR
