BEGIN:VCALENDAR
VERSION:2.0
METHOD:PUBLISH
PRODID:-//hacksw/handcal//NONSGML v1.0//EN
BEGIN:VEVENT
DTSTAMP:20260423T111605Z
DTSTART:20131011T233000Z
DTEND:20131012T011100Z
UID:20131011T233000Z-20131012T011100Z-190@akronago.org
SUMMARY:Dispelling the Myths of Bach
DESCRIPTION:Paul Barte\, presenter (Ohio University)\nOrganists:  Hann
 ah Koby\, Mary Mazey\n\nP.S. Bring any music you have to sell. Proceed
 s for the benefit of our scholarship program.
X-ALT-DESC;FMTTYPE=text/html:<div class=page-restrict-output><p>Paul B
 arte\, presenter (Ohio University)<br>\nOrganists:  Hannah Koby\, Mary
  Mazey</p>\n<p>P.S. Bring any music you have to sell. Proceeds for the
  benefit of our scholarship program.  </p>\n</div>
URL:https://akronago.org/events/190/dispelling-the-myths-of-bach/?lang
 =en
ATTACH:https://akronago.org/events/190/dispelling-the-myths-of-bach/?l
 ang=en
LOCATION:Redeemer North Hill U Methodist\, 265 E Cuyahoga Falls Ave\, 
 Akron\, OH
END:VEVENT
END:VCALENDAR
