BEGIN:VCALENDAR
VERSION:2.0
METHOD:PUBLISH
PRODID:-//hacksw/handcal//NONSGML v1.0//EN
BEGIN:VEVENT
DTSTAMP:20260423T111828Z
DTSTART:20101031T200000Z
DTEND:20101031T040000Z
UID:20101031T200000Z-20101031T040000Z-19@akronago.org
SUMMARY:Greater Canton Men's Chorus
DESCRIPTION:Free Admission\, with a free-will offering to benefit Gree
 n Good Neighbors
X-ALT-DESC;FMTTYPE=text/html:<div class=page-restrict-output><p>Free A
 dmission\, with a free-will offering to benefit <em>Green Good Neighbo
 rs</em></p>\n</div>
URL:https://akronago.org/events/19/greater-canton-mens-chorus/?lang=en
ATTACH:https://akronago.org/events/19/greater-canton-mens-chorus/?lang
 =en
LOCATION:Greensburg U Methodist (Green)\, 2161 Greensburg Rd\, Green
END:VEVENT
END:VCALENDAR
