BEGIN:VCALENDAR
VERSION:2.0
METHOD:PUBLISH
PRODID:-//hacksw/handcal//NONSGML v1.0//EN
BEGIN:VEVENT
DTSTAMP:20260423T111737Z
DTSTART:20130908T230000Z
DTEND:20130909T000000Z
UID:20130908T230000Z-20130909T000000Z-189@akronago.org
SUMMARY:An Evening of Reflection and Refreshment
DESCRIPTION:Lynn Frey\, Mario Buchanan\, Patrick Mernaugh\, and Mary R
 agna Yetter\, organists \nRev. John A. Valencheck\, homilist\n \nA pro
 gram of psalms and music from the Taizé community\, designed for organ
 ists and our spiritual rejuvenation.
X-ALT-DESC;FMTTYPE=text/html:<div class=page-restrict-output><p>Lynn F
 rey\, Mario Buchanan\, Patrick Mernaugh\, and Mary Ragna Yetter\, orga
 nists<br>\nRev. John A. Valencheck\, homilist</p>\n<p>A program of psa
 lms and music from the Taizé community\, designed for organists and ou
 r spiritual rejuvenation. </p>\n</div>
URL:https://akronago.org/events/189/an-evening-of-reflection-and-refre
 shment/?lang=en
ATTACH:https://akronago.org/events/189/an-evening-of-reflection-and-re
 freshment/?lang=en
LOCATION:St Sebastian RC (Akron)\, 476 Mull Ave\, Akron
END:VEVENT
END:VCALENDAR
