BEGIN:VCALENDAR
VERSION:2.0
METHOD:PUBLISH
PRODID:-//hacksw/handcal//NONSGML v1.0//EN
BEGIN:VEVENT
DTSTAMP:20260423T112007Z
DTSTART:20130608T233000Z
DTEND:20130609T075200Z
UID:20130608T233000Z-20130609T075200Z-188@akronago.org
SUMMARY:Tim Zimmerman & the King's Brass
DESCRIPTION:Patron Tickets $60 (includes 2 reserved seats\, name[s] in
  program\, plus your choice of a small ad in program or King's Brass C
 D)\n\nRegular Seating Tickets $15 Advance\; $20 at the door (kids unde
 r 12 free)\n\nAll tickets available at The Federated Church 440-247-64
 90 or online at www.fedchurch.org/kingsbrass\n\nThe Concert is a fundr
 aising effort to update Federated's beautiful Schantz Organ.
X-ALT-DESC;FMTTYPE=text/html:<div class=page-restrict-output><p>Patron
  Tickets $60 (includes 2 reserved seats\, name[s] in program\, plus yo
 ur choice of a small ad in program or King's Brass CD)</p>\n<p>Regular
  Seating Tickets $15 Advance\; $20 at the door (kids under 12 free)</p
 >\n<p>All tickets available at The Federated Church 440-247-6490 or on
 line at <a href=www.fedchurch.org/kingsbrass target=_blank>www.fedchur
 ch.org/kingsbrass</a></p>\n<p><em>The Concert is a fundraising effort 
 to update Federated's beautiful Schantz Organ.</em></p>\n</div>
URL:https://akronago.org/events/188/tim-zimmerman-the-kings-brass/?lan
 g=en
ATTACH:https://akronago.org/events/188/tim-zimmerman-the-kings-brass/?
 lang=en
LOCATION:The Federated Church (Chagrin Falls)\, 76 Bell St\, Chagrin F
 alls
END:VEVENT
END:VCALENDAR
