BEGIN:VCALENDAR
VERSION:2.0
METHOD:PUBLISH
PRODID:-//hacksw/handcal//NONSGML v1.0//EN
BEGIN:VEVENT
DTSTAMP:20260423T111827Z
DTSTART:20130804T190000Z
DTEND:20130804T215200Z
UID:20130804T190000Z-20130804T215200Z-187@akronago.org
SUMMARY:Master Singers Chorale
DESCRIPTION:J.D. Goddard\, founder & artistic director\n\nFeaturing Ro
 bert Schumann's Messe (Op. 147) and Reguiem (Op. 148)\nFree admission\
 n\nMaster Singers\, Inc.
X-ALT-DESC;FMTTYPE=text/html:<div class=page-restrict-output><p>J.D. G
 oddard\, founder & artistic director</p>\n<p>Featuring Robert Schumann
 's Messe (Op. 147) and Reguiem (Op. 148)<br>\nFree admission</p>\n<p><
 a href=http://mastersingersinc.org/ target=_blank>Master Singers\, Inc
 .</a></p>\n</div>
URL:https://akronago.org/events/187/master-singers-chorale/?lang=en
ATTACH:https://akronago.org/events/187/master-singers-chorale/?lang=en
LOCATION:St Paul's Episcopal (Akron)\, 1361 W Market St\, Akron
END:VEVENT
END:VCALENDAR
