BEGIN:VCALENDAR
VERSION:2.0
METHOD:PUBLISH
PRODID:-//hacksw/handcal//NONSGML v1.0//EN
BEGIN:VEVENT
DTSTAMP:20260423T111912Z
DTSTART:20130519T190000Z
DTEND:20130519T213900Z
UID:20130519T190000Z-20130519T213900Z-186@akronago.org
SUMMARY:Akron Symphony Chorus Spring Concert
DESCRIPTION:Order tickets now! This concert features the Duruflé Requi
 em and works by Faure\, Poulenc\, Vierne and Lili Boulanger. It will b
 e led by Chorus Conductor\, Maria Sensi Sellner. Tickets are $15 each\
 , $7.50 for students and $25 for patrons (includes reserved seating an
 d program recognition). Tickets can be purchased by phone\, online\, o
 r in-person at the Akron Symphony office.
X-ALT-DESC;FMTTYPE=text/html:<div class=page-restrict-output><p><a hre
 f=http://www.akronsymphony.org/chorus-spring-concert-2013/ target=_bla
 nk>Order tickets now!</a> This concert features the Duruflé Requiem an
 d works by Faure\, Poulenc\, Vierne and Lili Boulanger. It will be led
  by Chorus Conductor\, Maria Sensi Sellner. Tickets are $15 each\, $7.
 50 for students and $25 for patrons (includes reserved seating and pro
 gram recognition). Tickets can be purchased by phone\, online\, or in-
 person at the Akron Symphony office.</p>\n</div>
URL:https://akronago.org/events/186/akron-symphony-chorus-spring-conce
 rt/?lang=en
ATTACH:https://akronago.org/events/186/akron-symphony-chorus-spring-co
 ncert/?lang=en
LOCATION:St Paul's Episcopal (Akron)\, 1361 W Market St\, Akron
END:VEVENT
END:VCALENDAR
