BEGIN:VCALENDAR
VERSION:2.0
METHOD:PUBLISH
PRODID:-//hacksw/handcal//NONSGML v1.0//EN
BEGIN:VEVENT
DTSTAMP:20260423T111808Z
DTSTART:20130421T190000Z
DTEND:20130422T042000Z
UID:20130421T190000Z-20130422T042000Z-185@akronago.org
SUMMARY:Malone University Chorale & Chamber Choir
DESCRIPTION:Malone University Chorale — Now in its 54th year\, the Cho
 rale is a mixed chorus of 70 men and women dedicated to the performanc
 e of a wide variety of European and American choral music. \n\nChamber
  Choir — The Malone University Chamber Choir is an ensemble of mixed v
 oices. The Chamber \nChoir performs a variety of musical styles both s
 acred and secular. The Malone University \nChamber Choir\, under the d
 irection of Dr. David Donelson\, is comprised of 20 singers chosen thr
 ough \ncompetitive auditions from the ranks of the Malone University C
 horale. This highly selective choir \nperforms several styles of music
 \, from a cappella classics to contemporary small-group works.
X-ALT-DESC;FMTTYPE=text/html:<div class=page-restrict-output><p>Malone
  University Chorale — Now in its 54th year\, the Chorale is a mixed ch
 orus of 70 men and women dedicated to the performance of a wide variet
 y of European and American choral music. </p>\n<p>Chamber Choir — The 
 Malone University Chamber Choir is an ensemble of mixed voices. The Ch
 amber<br>\nChoir performs a variety of musical styles both sacred and 
 secular. The Malone University<br>\nChamber Choir\, under the directio
 n of Dr. David Donelson\, is comprised of 20 singers chosen through<br
 >\ncompetitive auditions from the ranks of the Malone University Chora
 le. This highly selective choir<br>\nperforms several styles of music\
 , from a cappella classics to contemporary small-group works.</p>\n</d
 iv>
URL:https://akronago.org/events/185/malone-university-chorale-chamber-
 choir/?lang=en
ATTACH:https://akronago.org/events/185/malone-university-chorale-chamb
 er-choir/?lang=en
LOCATION:Church of the Savior UM (Canton)\, 120 Cleveland Ave SW\, Can
 ton\, Ohio
END:VEVENT
END:VCALENDAR
